BEGIN:VCALENDAR
VERSION:2.0
PRODID:-//Roaming the Paths - ECPv6.15.17.1//NONSGML v1.0//EN
CALSCALE:GREGORIAN
METHOD:PUBLISH
X-WR-CALNAME:Roaming the Paths
X-ORIGINAL-URL:https://roaming-the-paths.co.uk
X-WR-CALDESC:Events for Roaming the Paths
REFRESH-INTERVAL;VALUE=DURATION:PT1H
X-Robots-Tag:noindex
X-PUBLISHED-TTL:PT1H
BEGIN:VTIMEZONE
TZID:UTC
BEGIN:STANDARD
TZOFFSETFROM:+0000
TZOFFSETTO:+0000
TZNAME:UTC
DTSTART:20220101T000000
END:STANDARD
END:VTIMEZONE
BEGIN:VEVENT
DTSTART;TZID=UTC:20230426T183000
DTEND;TZID=UTC:20230426T200000
DTSTAMP:20260420T175610
CREATED:20230314T122702Z
LAST-MODIFIED:20240419T045956Z
UID:395-1682533800-1682539200@roaming-the-paths.co.uk
SUMMARY:Getting to know your Spring Weeds
DESCRIPTION:Reserve your place now for another exploration and discovery session by Michael Atkinson-Willes from Wiltshire Wandering\nInvestigate and explore the fantastic plants springing forth in bounteous abundance\, in this evening botanical bonanza. \nMichael will guide you about a meadow bursting forth with life. \nMichael will cover edibility\, past and present uses\, historical references and folk law. \nAll are welcome\, so please bring a friend or two.\nThere is a £25.00 CASH charge for this event\, payable on arrival or £26.00 if booked online (£25.00 plus £1.00 booking fee*). \nThe previous events have been popular\, so see below to buy a ticket or RSVP now to reserve a prime place at this unique\, informative\, educational and entertaining event. \nThe venue\nThe Seven Stars opens at 5PM so plenty of time for some refreshments before the event. \nPlease note – If you want to dine\, please contact the venue\, the Seven Stars Bottlesford directly to reserve a table. \nWhat to wear\nPlease wear appropriate clothing for the weather and event. The tour is not a great distance\, nor is the terrain challenging.  However\, it is the countryside\, so sensible footwear is advisable. If the weather is wet coats\, etc. advisable. \n\n*Booking fee to cover online payment charges\, or £25.00 cash on the day \n 
URL:https://roaming-the-paths.co.uk/tickets/spring-meadow-exploration/
LOCATION:The Seven Stars Inn – Bottlesford\, Gores Lane\, Bottlesford\, Wiltshire\, SN9 6LW\, United Kingdom
CATEGORIES:Talk
ATTACH;FMTTYPE=image/png:https://roaming-the-paths.co.uk/wp-content/uploads/2023/03/spring-wild-flowers.png
ORGANIZER;CN="Walking Wiltshire":MAILTO:mike@walkingwiltshire.com
END:VEVENT
END:VCALENDAR