BEGIN:VCALENDAR
VERSION:2.0
PRODID:-//Roaming the Paths - ECPv6.15.17.1//NONSGML v1.0//EN
CALSCALE:GREGORIAN
METHOD:PUBLISH
X-ORIGINAL-URL:https://roaming-the-paths.co.uk
X-WR-CALDESC:Events for Roaming the Paths
REFRESH-INTERVAL;VALUE=DURATION:PT1H
X-Robots-Tag:noindex
X-PUBLISHED-TTL:PT1H
BEGIN:VTIMEZONE
TZID:UTC
BEGIN:STANDARD
TZOFFSETFROM:+0000
TZOFFSETTO:+0000
TZNAME:UTC
DTSTART:20230101T000000
END:STANDARD
END:VTIMEZONE
BEGIN:VEVENT
DTSTART;TZID=UTC:20240518T094500
DTEND;TZID=UTC:20240518T130000
DTSTAMP:20260422T172608
CREATED:20240506T151557Z
LAST-MODIFIED:20240515T093303Z
UID:766-1716025500-1716037200@roaming-the-paths.co.uk
SUMMARY:Guided botanical exploration of Jones Mill
DESCRIPTION:A quality morning out with a botanical tour\nA high-quality\, fully guided morning walk\, with informative talk\,  in the beautiful vale of Pewsey.  \nMorning – Exploration of the multitude of plants bursting into life. The tour is similar to Wandering by Water by Walking Wiltshire and is led by Walking Wiltshire. \n  \nBriefing\nThere will be a briefing on the days’ activities\, and an equipment check (please remember to bring suitable attire for the weather\, snacks and a drink. The drink is essential). \nMorning Tour\nDistance – 2.3 Miles. Terrain – gentle gradients\, some steps\, boardwalks\, and possible mud. Starting at 10:10 and lasting about 2 hours 45. \nFrom there Mike from Walking Wiltshire will take you on a guided tour looking at the wonder of plants. Setting off immediately into the countryside and onward to Jones’s Mill Nature Reserve\, the journey of discovery starts. The morning is spent exploring the plants and their uses. Medicinal\, culinary and otherwise. Their history\, folk law and legends. Their environment\, and numerous other aspects of the plants seen on the day. \nIn recognition of the amazing work done by the Wiltshire Wildlife Trust\, £4.00 of the ticket price is donated to Wiltshire Wildlife Trust to help them with their work. \nA thoroughly enjoyable opportunity to discover the power of some of our most common\, and often unseen\, companions. \n  \nInformation about the day\nUseful stuff to know. \nArrival by Train\nStarts at 9.45.  Meet at Pewsey Railway Station forecourt – this is timed to meet the first train from London Paddington and Bristol.  We will wait if the train(s) are delayed and amend the schedule if required. \nArrival by Car\nPark at North Street Car Park.  Free all day\, usually spaces available. Proceed to the Railway Station. \nArrival by Bus\nPewsey is served by the Salisbury Reds X5 which runs between Salisbury and Swindon. 07:55 from Salisbury\, 08:16 From Amesbury timed to arrive at Pewsey 09:00. 08:45 from Swindon 09:17 from Marlborough timed to arrive at 09:36 at Pewsey. We will have contingency arrangements if the bus is delayed. PLEASE NOTE if travelling by bus\, please make us aware to ensure that you are back in good time as the last service to Swindon is 17:30 and the last service to Salisbury is 18:37. \nHealth and Safety\nAll tours will have at least 2 members of staff on hand\, and we always strive to have a mix of male and female staff. One will be leading\, or running a talk\, and there will be a second member of staff at hand. Please feel at ease approaching with any questions\, or issues or present any difficulties that may arise.  You may want clarification on a point\, or develop a blister\, or maybe something more serious.  Whilst we run a full risk assessment there is always an element of risk in all aspects of life and people can fall ill at any time with little warning. There should always be a member of staff qualified in outdoor first aid either on the walk or a short distance away. Please make us aware of any potential requirements (like the use of an Epipen in the event of a sting) before the day’s events commence. \nYou have questions\nYou may still have questions or want to know more. Please feel free to contact us with any questions you may have.
URL:https://roaming-the-paths.co.uk/tickets/guided-botanical-exploration-of-jones-mill/
LOCATION:Pewsey Railway Station (PEW)\, North Street\, Pewsey\, Wiltshire\, SN9 5ER\, United Kingdom
ATTACH;FMTTYPE=image/png:https://roaming-the-paths.co.uk/wp-content/uploads/2023/03/spring-wild-flowers.png
ORGANIZER;CN="Walking Wiltshire":MAILTO:mike@walkingwiltshire.com
END:VEVENT
BEGIN:VEVENT
DTSTART;TZID=UTC:20240519T100000
DTEND;TZID=UTC:20240519T120000
DTSTAMP:20260422T172608
CREATED:20240513T103140Z
LAST-MODIFIED:20240515T105840Z
UID:790-1716112800-1716120000@roaming-the-paths.co.uk
SUMMARY:Green Sketching with Emma from "A Little Piece of Wonder".
DESCRIPTION:Green Sketching\nA morning green sketching at the beautiful Jones’s Mill with Emma from Little Piece of Wonder. \nWhat is Green Sketching?\nGreen sketching is a new approach to sketching nature designed to help you connect with nature and enhance your wellbeing. The focus of green sketching is on the process of observing and sketching nature\, not the creation of impressive artwork. It’s an informal and fun approach; the aim is not to learn about nature but to use sketching as a tool to see\, enjoy and appreciate the beauty that’s all around us\, beauty we so often miss. \nFor more information visit Green Sketching by Little Piece of Wonder.
URL:https://roaming-the-paths.co.uk/tickets/green-sketching-with-emma-from-a-little-piece-of-wonder/
LOCATION:Jones’s Mill the Vera Jeans Reserve\, Dursden Lane\, Pewsey\, Wiltshire\, SN9 5JN\, United Kingdom
CATEGORIES:Green Sketching
ATTACH;FMTTYPE=image/jpeg:https://roaming-the-paths.co.uk/wp-content/uploads/2024/05/green-sketching-pad-in-meadow.jpg
ORGANIZER;CN="Little piece of Wonder":MAILTO:emma@littlepieceofwonder.co.uk
END:VEVENT
END:VCALENDAR