BEGIN:VCALENDAR
VERSION:2.0
PRODID:-//Roaming the Paths - ECPv6.15.17.1//NONSGML v1.0//EN
CALSCALE:GREGORIAN
METHOD:PUBLISH
X-ORIGINAL-URL:https://roaming-the-paths.co.uk
X-WR-CALDESC:Events for Roaming the Paths
REFRESH-INTERVAL;VALUE=DURATION:PT1H
X-Robots-Tag:noindex
X-PUBLISHED-TTL:PT1H
BEGIN:VTIMEZONE
TZID:UTC
BEGIN:STANDARD
TZOFFSETFROM:+0000
TZOFFSETTO:+0000
TZNAME:UTC
DTSTART:20230101T000000
END:STANDARD
END:VTIMEZONE
BEGIN:VEVENT
DTSTART;TZID=UTC:20240907T100000
DTEND;TZID=UTC:20240907T123000
DTSTAMP:20260420T175225
CREATED:20240904T081201Z
LAST-MODIFIED:20240904T082651Z
UID:1129-1725703200-1725712200@roaming-the-paths.co.uk
SUMMARY:Join me on a  stroll in support of Sands
DESCRIPTION:Join me for a Stroll in the Vale of Pewsey\nI am taking on the walk 100k in September in support of the Sands charity. Join me for a scenic stroll in support of SANDS. Explore beautiful paths while raising awareness and funds for stillbirth and neonatal death charity. \nThis is not a formal guided walk or tour\, rather an invitation to join me for a Roam whilst doing a little segment of my 100K. \nHow far is it\nThis is only a segment\, and it’s not going to be a yomp up the hills. Depending on the weather and how enthusiastic we feel\, I estimate between 3 – 6 miles (5 – 10 Kilometres). This will be within the vale\, so no big hills to ascend. \nDo I need to pay?\nNo\, this is not a guided walk or talk\, just a wander about. So you will be fully responsible for your equipment\, etc. Don’t forget to bring your water & snacks\, plus appropriate clothing. \nDo I need to donate?\nNo. This is just an invitation to join me and hopefully meet a few other people who enjoy the countryside and being outdoors. \nWhere? When?\n10AM. Royal Oak\, Pewsey. Get there a bit earlier if you fancy a Breakfast or a beverage.  We can meet at the side entrance on the entry to the Car Park. \nWe will return to the Oak\, where Victuals will be available for purchase. \nQuestions?\nPlease feel free to Contact Me about this event only contact the Royal Oak regarding their food and drink offerings. \n 
URL:https://roaming-the-paths.co.uk/tickets/join-me-on-a-stroll-in-support-of-sands/
LOCATION:The Royal Oak\, Pewey\, 35 North St\, Pewsey\, Wiltshire\, SN9 5ES\, United Kingdom
CATEGORIES:Roam
ATTACH;FMTTYPE=image/jpeg:https://roaming-the-paths.co.uk/wp-content/uploads/2024/09/Martinsell-from-Ball-Road.jpg
ORGANIZER;CN="Roaming the Paths":MAILTO:info@roaming-the-paths.co.uk
END:VEVENT
END:VCALENDAR